BEGIN:VCALENDAR
METHOD:REQUEST
PRODID:-//events.orgNONSGML ical.net 4.0//EN
VERSION:2.0
BEGIN:VEVENT
DTEND;VALUE=DATE:20260522
DTSTAMP:20260421T082000Z
DTSTART;VALUE=DATE:20260522
LOCATION:Fenway Park\, Boston
ORGANIZER;CN=:mailto:events@events.org
SEQUENCE:0
SUMMARY:Boston Red Sox vs Minnesota Twins: Roger Clemens 20-Strikeout Doub
 le Bobblehead
UID:3735ccb7-c989-4f17-8742-aadbbcbc274f
URL:https://events.org/e/Boston-Red-Sox-vs-Minnesota-Twins-Roger-Cleme/8YC
 RT8VW
BEGIN:VALARM
ACTION:DISPLAY
SUMMARY:Reminder
TRIGGER:-P1D
END:VALARM
END:VEVENT
END:VCALENDAR
