BEGIN:VCALENDAR
METHOD:REQUEST
PRODID:-//events.orgNONSGML ical.net 4.0//EN
VERSION:2.0
BEGIN:VEVENT
DTEND;VALUE=DATE:20260524
DTSTAMP:20260424T092725Z
DTSTART;VALUE=DATE:20260524
LOCATION:White Oak Music Hall - Upstairs \, Houston
ORGANIZER;CN=:mailto:events@events.org
SEQUENCE:0
SUMMARY:Ear Ringers / Midnight Beverage
UID:2feeb912-5722-49d4-b3e0-f329a3113b43
URL:https://events.org/e/Ear-Ringers-Midnight-Beverage/RJKV6TGU
BEGIN:VALARM
ACTION:DISPLAY
SUMMARY:Reminder
TRIGGER:-P1D
END:VALARM
END:VEVENT
END:VCALENDAR
