BEGIN:VCALENDAR
METHOD:REQUEST
PRODID:-//events.orgNONSGML ical.net 4.0//EN
VERSION:2.0
BEGIN:VEVENT
DTEND;VALUE=DATE:20260521
DTSTAMP:20260422T091216Z
DTSTART;VALUE=DATE:20260521
LOCATION:The Belasco\, Los Angeles
ORGANIZER;CN=:mailto:events@events.org
SEQUENCE:0
SUMMARY:KCRW Presents Dry Cleaning - MOVED FROM WILTERN
UID:9472daf2-562b-47a2-92b8-8baf46333c2f
URL:https://events.org/e/KCRW-Presents-Dry-Cleaning---MOVED-FROM-WILTERN/K
 XL4BG68
BEGIN:VALARM
ACTION:DISPLAY
SUMMARY:Reminder
TRIGGER:-P1D
END:VALARM
END:VEVENT
END:VCALENDAR
