BEGIN:VCALENDAR
METHOD:REQUEST
PRODID:-//events.orgNONSGML ical.net 4.0//EN
VERSION:2.0
BEGIN:VEVENT
DTEND;VALUE=DATE:20260521
DTSTAMP:20260425T170518Z
DTSTART;VALUE=DATE:20260521
LOCATION:Union Transfer\, Philadelphia
ORGANIZER;CN=:mailto:events@events.org
SEQUENCE:0
SUMMARY:Black Angels (21 and Over)
UID:65964719-0bce-46a0-8fda-251441b45f73
URL:https://events.org/e/Black-Angels-21-and-Over/RACRSF4M
BEGIN:VALARM
ACTION:DISPLAY
SUMMARY:Reminder
TRIGGER:-P1D
END:VALARM
END:VEVENT
END:VCALENDAR
