BEGIN:VCALENDAR
METHOD:REQUEST
PRODID:-//events.orgNONSGML ical.net 4.0//EN
VERSION:2.0
BEGIN:VEVENT
DTEND;VALUE=DATE:20260423
DTSTAMP:20260422T092427Z
DTSTART;VALUE=DATE:20260423
LOCATION:Astor Place Theatre\, New York
ORGANIZER;CN=:mailto:events@events.org
SEQUENCE:0
SUMMARY:Burnout Paradise
UID:383bd3c9-3560-4c9e-a63d-2a85f984deb9
URL:https://events.org/e/Burnout-Paradise/3Q8J2D6D
BEGIN:VALARM
ACTION:DISPLAY
SUMMARY:Reminder
TRIGGER:-P1D
END:VALARM
END:VEVENT
END:VCALENDAR
