BEGIN:VCALENDAR
METHOD:REQUEST
PRODID:-//events.orgNONSGML ical.net 4.0//EN
VERSION:2.0
BEGIN:VEVENT
DTEND;VALUE=DATE:20260807
DTSTAMP:20260422T084612Z
DTSTART;VALUE=DATE:20260807
LOCATION:Valley Bar\, Phoenix
ORGANIZER;CN=:mailto:events@events.org
SEQUENCE:0
SUMMARY:ELLA RED
UID:02b4fec0-85f6-4568-84ad-cc53cefd8a1d
URL:https://events.org/e/ELLA-RED/952SIL8N
BEGIN:VALARM
ACTION:DISPLAY
SUMMARY:Reminder
TRIGGER:-P1D
END:VALARM
END:VEVENT
END:VCALENDAR
