BEGIN:VCALENDAR
METHOD:REQUEST
PRODID:-//events.orgNONSGML ical.net 4.0//EN
VERSION:2.0
BEGIN:VEVENT
DTEND;VALUE=DATE:20260513
DTSTAMP:20260421T081913Z
DTSTART;VALUE=DATE:20260513
LOCATION:White Oak Music Hall - Downstairs\, Houston
ORGANIZER;CN=:mailto:events@events.org
SEQUENCE:0
SUMMARY:Grandaddy - 25th Anniversary of Sophtware Slump
UID:def063fc-e5c1-4a43-8970-bc1d3fb7efb1
URL:https://events.org/e/Grandaddy---25th-Anniversary-of-Sophtware-Slump/4
 FLYF9UI
BEGIN:VALARM
ACTION:DISPLAY
SUMMARY:Reminder
TRIGGER:-P1D
END:VALARM
END:VEVENT
END:VCALENDAR
