BEGIN:VCALENDAR
METHOD:REQUEST
PRODID:-//events.orgNONSGML ical.net 4.0//EN
VERSION:2.0
BEGIN:VEVENT
DTEND;VALUE=DATE:20260427
DTSTAMP:20260425T202012Z
DTSTART;VALUE=DATE:20260427
LOCATION:Los Angeles Memorial Coliseum\, Los Angeles
ORGANIZER;CN=:mailto:events@events.org
SEQUENCE:0
SUMMARY:Los Angeles Coliseum Historic Tours
UID:668c0dcb-c8da-4f01-8a5a-137afad78b43
URL:https://events.org/e/Los-Angeles-Coliseum-Historic-Tours/XCACICJO
BEGIN:VALARM
ACTION:DISPLAY
SUMMARY:Reminder
TRIGGER:-P1D
END:VALARM
END:VEVENT
END:VCALENDAR
