BEGIN:VCALENDAR
METHOD:REQUEST
PRODID:-//events.orgNONSGML ical.net 4.0//EN
VERSION:2.0
BEGIN:VEVENT
DTEND;VALUE=DATE:20260515
DTSTAMP:20260423T132952Z
DTSTART;VALUE=DATE:20260515
LOCATION:Coors Field\, Denver
ORGANIZER;CN=:mailto:events@events.org
SEQUENCE:0
SUMMARY:Colorado Rockies vs. Arizona Diamondbacks
UID:9c34814e-2b23-4586-9c31-2ca24b8e0207
URL:https://events.org/e/Colorado-Rockies-vs-Arizona-Diamondbacks/SSHB4U7M
BEGIN:VALARM
ACTION:DISPLAY
SUMMARY:Reminder
TRIGGER:-P1D
END:VALARM
END:VEVENT
END:VCALENDAR
