BEGIN:VCALENDAR
METHOD:REQUEST
PRODID:-//events.orgNONSGML ical.net 4.0//EN
VERSION:2.0
BEGIN:VEVENT
DTEND;VALUE=DATE:20260518
DTSTAMP:20260422T091420Z
DTSTART;VALUE=DATE:20260518
LOCATION:Blue Note Los Angeles\, Los Angeles
ORGANIZER;CN=:mailto:events@events.org
SEQUENCE:0
SUMMARY:GIOVANNA
UID:f3c1a6be-8ceb-4bbb-985c-91a3c008f8e3
URL:https://events.org/e/GIOVANNA/4AUIP58P
BEGIN:VALARM
ACTION:DISPLAY
SUMMARY:Reminder
TRIGGER:-P1D
END:VALARM
END:VEVENT
END:VCALENDAR
