BEGIN:VCALENDAR
METHOD:REQUEST
PRODID:-//events.orgNONSGML ical.net 4.0//EN
VERSION:2.0
BEGIN:VEVENT
DTEND;VALUE=DATE:20260618
DTSTAMP:20260419T143444Z
DTSTART;VALUE=DATE:20260618
LOCATION:Brick By Brick\, San Diego
ORGANIZER;CN=:mailto:events@events.org
SEQUENCE:0
SUMMARY:Christian Mistress with special guests
UID:5e02c380-04be-429c-8d96-b0753681d5db
URL:https://events.org/e/Christian-Mistress-with-special-guests/OSGWFB3L
BEGIN:VALARM
ACTION:DISPLAY
SUMMARY:Reminder
TRIGGER:-P1D
END:VALARM
END:VEVENT
END:VCALENDAR
