BEGIN:VCALENDAR
METHOD:REQUEST
PRODID:-//events.orgNONSGML ical.net 4.0//EN
VERSION:2.0
BEGIN:VEVENT
DTEND;VALUE=DATE:20260801
DTSTAMP:20260422T091217Z
DTSTART;VALUE=DATE:20260801
LOCATION:House of Blues Houston\, Houston
ORGANIZER;CN=:mailto:events@events.org
SEQUENCE:0
SUMMARY:Waterboyz Presents: Chris Travis Performing Live!
UID:22a98262-e7b5-4aff-a93d-56ffdae1314e
URL:https://events.org/e/Waterboyz-Presents-Chris-Travis-Performing-Live/9
 IAWVLMC
BEGIN:VALARM
ACTION:DISPLAY
SUMMARY:Reminder
TRIGGER:-P1D
END:VALARM
END:VEVENT
END:VCALENDAR
