BEGIN:VCALENDAR
METHOD:REQUEST
PRODID:-//events.orgNONSGML ical.net 4.0//EN
VERSION:2.0
BEGIN:VEVENT
DTEND;VALUE=DATE:20260513
DTSTAMP:20260425T170053Z
DTSTART;VALUE=DATE:20260513
LOCATION:Lumen Field\, Seattle
ORGANIZER;CN=:mailto:events@events.org
SEQUENCE:0
SUMMARY:Seattle Sounders FC vs. San Jose Earthquakes
UID:a2142db1-6572-4cd6-9f9c-2cc681d5e8a6
URL:https://events.org/e/Seattle-Sounders-FC-vs-San-Jose-Earthquakes/SWR6P
 L8W
BEGIN:VALARM
ACTION:DISPLAY
SUMMARY:Reminder
TRIGGER:-P1D
END:VALARM
END:VEVENT
END:VCALENDAR
