BEGIN:VCALENDAR
METHOD:REQUEST
PRODID:-//events.orgNONSGML ical.net 4.0//EN
VERSION:2.0
BEGIN:VEVENT
DTEND;VALUE=DATE:20260701
DTSTAMP:20260421T103624Z
DTSTART;VALUE=DATE:20260701
LOCATION:Big Night Live\, Boston
ORGANIZER;CN=:mailto:events@events.org
SEQUENCE:0
SUMMARY:Kiss 108 Lisa's Book Club with Dave Portnoy ( 21+ )
UID:827f422a-737b-44d1-b6e6-818d0cd540d8
URL:https://events.org/e/Kiss-108-Lisas-Book-Club-with-Dave-Portnoy-21/3CY
 VPXHA
BEGIN:VALARM
ACTION:DISPLAY
SUMMARY:Reminder
TRIGGER:-P1D
END:VALARM
END:VEVENT
END:VCALENDAR
