BEGIN:VCALENDAR
METHOD:REQUEST
PRODID:-//events.orgNONSGML ical.net 4.0//EN
VERSION:2.0
BEGIN:VEVENT
DTEND;VALUE=DATE:20260606
DTSTAMP:20260425T231225Z
DTSTART;VALUE=DATE:20260606
LOCATION:Roadrunner-Boston\, Boston
ORGANIZER;CN=:mailto:events@events.org
SEQUENCE:0
SUMMARY:Audrey Hobert
UID:1d1542c9-a077-4616-bab9-6fa6afd7c1cb
URL:https://events.org/e/Audrey-Hobert/POX4QSKC
BEGIN:VALARM
ACTION:DISPLAY
SUMMARY:Reminder
TRIGGER:-P1D
END:VALARM
END:VEVENT
END:VCALENDAR
