BEGIN:VCALENDAR
METHOD:REQUEST
PRODID:-//events.orgNONSGML ical.net 4.0//EN
VERSION:2.0
BEGIN:VEVENT
DTEND;VALUE=DATE:20260517
DTSTAMP:20260422T090801Z
DTSTART;VALUE=DATE:20260517
LOCATION:Teragram Ballroom\, Los Angeles
ORGANIZER;CN=:mailto:events@events.org
SEQUENCE:0
SUMMARY:Caroline Kingsbury: Shock Treatment Tour
UID:6dbed670-9367-4e6a-b703-3b93e8069d32
URL:https://events.org/e/Caroline-Kingsbury-Shock-Treatment-Tour/7IDHYLNM
BEGIN:VALARM
ACTION:DISPLAY
SUMMARY:Reminder
TRIGGER:-P1D
END:VALARM
END:VEVENT
END:VCALENDAR
