BEGIN:VCALENDAR
METHOD:REQUEST
PRODID:-//events.orgNONSGML ical.net 4.0//EN
VERSION:2.0
BEGIN:VEVENT
DTEND;VALUE=DATE:20260528
DTSTAMP:20260421T094953Z
DTSTART;VALUE=DATE:20260528
LOCATION:Atlanta Symphony Hall\, Atlanta
ORGANIZER;CN=:mailto:events@events.org
SEQUENCE:0
SUMMARY:Stutzmann Conducts Tchaikovsky
UID:6e7a8198-cb15-44c6-816b-26222a36ebf4
URL:https://events.org/e/Stutzmann-Conducts-Tchaikovsky/J4GXMO7S
BEGIN:VALARM
ACTION:DISPLAY
SUMMARY:Reminder
TRIGGER:-P1D
END:VALARM
END:VEVENT
END:VCALENDAR
