BEGIN:VCALENDAR
METHOD:REQUEST
PRODID:-//events.orgNONSGML ical.net 4.0//EN
VERSION:2.0
BEGIN:VEVENT
DTEND;VALUE=DATE:20260619
DTSTAMP:20260421T104513Z
DTSTART;VALUE=DATE:20260619
LOCATION:Lincoln Financial Field\, Philadelphia
ORGANIZER;CN=:mailto:events@events.org
SEQUENCE:0
SUMMARY:World Cup: Match 29 ??? Group C - Brazil vs Haiti
UID:27f30ea7-07fe-4aa4-b541-323f63b042f1
URL:https://events.org/e/World-Cup-Match-29-Group-C---Brazil-vs-Haiti/5WPN
 VOGR
BEGIN:VALARM
ACTION:DISPLAY
SUMMARY:Reminder
TRIGGER:-P1D
END:VALARM
END:VEVENT
END:VCALENDAR
