BEGIN:VCALENDAR
METHOD:REQUEST
PRODID:-//events.orgNONSGML ical.net 4.0//EN
VERSION:2.0
BEGIN:VEVENT
DTEND;VALUE=DATE:20260423
DTSTAMP:20260421T094247Z
DTSTART;VALUE=DATE:20260423
LOCATION:Clock-Out Lounge\, Seattle
ORGANIZER;CN=:mailto:events@events.org
SEQUENCE:0
SUMMARY:Clock-Out Lounge Presents: TUSH!
UID:4363243a-bfde-4401-8e79-2ebaeab2e4c1
URL:https://events.org/e/Clock-Out-Lounge-Presents-TUSH/IENSFXVR
BEGIN:VALARM
ACTION:DISPLAY
SUMMARY:Reminder
TRIGGER:-P1D
END:VALARM
END:VEVENT
END:VCALENDAR
