BEGIN:VCALENDAR
METHOD:REQUEST
PRODID:-//events.orgNONSGML ical.net 4.0//EN
VERSION:2.0
BEGIN:VEVENT
DTEND;VALUE=DATE:20260628
DTSTAMP:20260421T104147Z
DTSTART;VALUE=DATE:20260628
LOCATION:Orpheum Theatre\, Minneapolis
ORGANIZER;CN=:mailto:events@events.org
SEQUENCE:0
SUMMARY:Leanne Morgan: THE TIME OF OUR LIVES TOUR
UID:5d12c255-b282-4b1b-ae81-20f7fce2daa4
URL:https://events.org/e/Leanne-Morgan-THE-TIME-OF-OUR-LIVES-TOUR/4N3XK9RX
BEGIN:VALARM
ACTION:DISPLAY
SUMMARY:Reminder
TRIGGER:-P1D
END:VALARM
END:VEVENT
END:VCALENDAR
