BEGIN:VCALENDAR
METHOD:REQUEST
PRODID:-//events.orgNONSGML ical.net 4.0//EN
VERSION:2.0
BEGIN:VEVENT
DTEND;VALUE=DATE:20260612
DTSTAMP:20260421T094630Z
DTSTART;VALUE=DATE:20260612
LOCATION:Punch Line Comedy Club - San Francisco\, San Francisco
ORGANIZER;CN=:mailto:events@events.org
SEQUENCE:0
SUMMARY:Helen Hong
UID:66a141c3-3927-439b-8b1b-1d2c613e32ca
URL:https://events.org/e/Helen-Hong/MUHPM756
BEGIN:VALARM
ACTION:DISPLAY
SUMMARY:Reminder
TRIGGER:-P1D
END:VALARM
END:VEVENT
END:VCALENDAR
