BEGIN:VCALENDAR
METHOD:REQUEST
PRODID:-//events.orgNONSGML ical.net 4.0//EN
VERSION:2.0
BEGIN:VEVENT
DTEND;VALUE=DATE:20260924
DTSTAMP:20260422T091637Z
DTSTART;VALUE=DATE:20260924
LOCATION:Union Transfer\, Philadelphia
ORGANIZER;CN=:mailto:events@events.org
SEQUENCE:0
SUMMARY:Altin Gun
UID:de3a87a7-7a21-4361-9098-bb7a69019447
URL:https://events.org/e/Altin-Gun/6YMWL2XV
BEGIN:VALARM
ACTION:DISPLAY
SUMMARY:Reminder
TRIGGER:-P1D
END:VALARM
END:VEVENT
END:VCALENDAR
