BEGIN:VCALENDAR
METHOD:REQUEST
PRODID:-//events.orgNONSGML ical.net 4.0//EN
VERSION:2.0
BEGIN:VEVENT
DTEND;VALUE=DATE:20260616
DTSTAMP:20260424T080644Z
DTSTART;VALUE=DATE:20260616
LOCATION:Underground Arts\, Philadelphia
ORGANIZER;CN=:mailto:events@events.org
SEQUENCE:0
SUMMARY:Worm with Cape of Bats (21+ Event)
UID:b671a054-4c26-4500-ba4f-dd7758676c58
URL:https://events.org/e/Worm-with-Cape-of-Bats-21-Event/D9FMHOU2
BEGIN:VALARM
ACTION:DISPLAY
SUMMARY:Reminder
TRIGGER:-P1D
END:VALARM
END:VEVENT
END:VCALENDAR
