BEGIN:VCALENDAR
METHOD:REQUEST
PRODID:-//events.orgNONSGML ical.net 4.0//EN
VERSION:2.0
BEGIN:VEVENT
DTEND;VALUE=DATE:20260313
DTSTAMP:20260421T082100Z
DTSTART;VALUE=DATE:20260313
LOCATION:Brick and Mortar Music Hall\, San Francisco
ORGANIZER;CN=:mailto:events@events.org
SEQUENCE:0
SUMMARY:WORK IT!: 90s/00s Hip Hop and R&B Party
UID:b29c3a3b-63d6-4d51-898b-cc2e95fa5485
URL:https://events.org/e/WORK-IT-90s00s-Hip-Hop-and-RB-Party/N6EGSX82
BEGIN:VALARM
ACTION:DISPLAY
SUMMARY:Reminder
TRIGGER:-P1D
END:VALARM
END:VEVENT
END:VCALENDAR
