BEGIN:VCALENDAR
METHOD:REQUEST
PRODID:-//events.orgNONSGML ical.net 4.0//EN
VERSION:2.0
BEGIN:VEVENT
DTEND;VALUE=DATE:20260519
DTSTAMP:20260421T095839Z
DTSTART;VALUE=DATE:20260519
LOCATION:9:30 CLUB\, Washington
ORGANIZER;CN=:mailto:events@events.org
SEQUENCE:0
SUMMARY:The Black Angels: Passover 2026 Tour
UID:49925bdd-b5fb-4982-91d5-867d3eb87e94
URL:https://events.org/e/The-Black-Angels-Passover-2026-Tour/3I7KDSNC
BEGIN:VALARM
ACTION:DISPLAY
SUMMARY:Reminder
TRIGGER:-P1D
END:VALARM
END:VEVENT
END:VCALENDAR
