BEGIN:VCALENDAR
METHOD:REQUEST
PRODID:-//events.orgNONSGML ical.net 4.0//EN
VERSION:2.0
BEGIN:VEVENT
DTEND;VALUE=DATE:20260523
DTSTAMP:20260424T080914Z
DTSTART;VALUE=DATE:20260523
LOCATION:The Wiltern\, Los Angeles
ORGANIZER;CN=:mailto:events@events.org
SEQUENCE:0
SUMMARY:American Football With Mei Semones
UID:8efb4f15-d0b0-4207-afff-2557490cfcfb
URL:https://events.org/e/American-Football-With-Mei-Semones/4QM28U3S
BEGIN:VALARM
ACTION:DISPLAY
SUMMARY:Reminder
TRIGGER:-P1D
END:VALARM
END:VEVENT
END:VCALENDAR
