BEGIN:VCALENDAR
METHOD:REQUEST
PRODID:-//events.orgNONSGML ical.net 4.0//EN
VERSION:2.0
BEGIN:VEVENT
DTEND;VALUE=DATE:20260730
DTSTAMP:20260422T083741Z
DTSTART;VALUE=DATE:20260730
LOCATION:The Liacouras Center\, Philadelphia
ORGANIZER;CN=:mailto:events@events.org
SEQUENCE:0
SUMMARY:TNA iMPACT! on AMC
UID:e07adfa7-cdbe-4ebc-8a4e-a5d81074cba2
URL:https://events.org/e/TNA-iMPACT-on-AMC/ANIL57SY
BEGIN:VALARM
ACTION:DISPLAY
SUMMARY:Reminder
TRIGGER:-P1D
END:VALARM
END:VEVENT
END:VCALENDAR
