BEGIN:VCALENDAR
METHOD:REQUEST
PRODID:-//events.orgNONSGML ical.net 4.0//EN
VERSION:2.0
BEGIN:VEVENT
DTEND;VALUE=DATE:20260618
DTSTAMP:20260421T103726Z
DTSTART;VALUE=DATE:20260618
LOCATION:Mission Ballroom\, Denver
ORGANIZER;CN=:mailto:events@events.org
SEQUENCE:0
SUMMARY:Nitty Gritty Dirt Band (16 and Over)
UID:f6452bc3-ced4-408c-a024-4ceb8ab9a5af
URL:https://events.org/e/Nitty-Gritty-Dirt-Band-16-and-Over/WJQVHXGA
BEGIN:VALARM
ACTION:DISPLAY
SUMMARY:Reminder
TRIGGER:-P1D
END:VALARM
END:VEVENT
END:VCALENDAR
