BEGIN:VCALENDAR
METHOD:REQUEST
PRODID:-//events.orgNONSGML ical.net 4.0//EN
VERSION:2.0
BEGIN:VEVENT
DTEND;VALUE=DATE:20260519
DTSTAMP:20260422T091806Z
DTSTART;VALUE=DATE:20260519
LOCATION:Pacific Electric\, Los Angeles
ORGANIZER;CN=:mailto:events@events.org
SEQUENCE:0
SUMMARY:Yumi Zouma
UID:b8ab7b21-2e8d-47d2-8fab-b2bea6f932b3
URL:https://events.org/e/Yumi-Zouma/4V6DFM7N
BEGIN:VALARM
ACTION:DISPLAY
SUMMARY:Reminder
TRIGGER:-P1D
END:VALARM
END:VEVENT
END:VCALENDAR
