BEGIN:VCALENDAR
METHOD:REQUEST
PRODID:-//events.orgNONSGML ical.net 4.0//EN
VERSION:2.0
BEGIN:VEVENT
DTEND;VALUE=DATE:20260528
DTSTAMP:20260419T142750Z
DTSTART;VALUE=DATE:20260528
LOCATION:Center Stage Theater\, Atlanta
ORGANIZER;CN=:mailto:events@events.org
SEQUENCE:0
SUMMARY:Derrick Stroup Live
UID:326aaeff-ff44-4dfa-aa0c-59f9021e70ca
URL:https://events.org/e/Derrick-Stroup-Live/EYK4FDGK
BEGIN:VALARM
ACTION:DISPLAY
SUMMARY:Reminder
TRIGGER:-P1D
END:VALARM
END:VEVENT
END:VCALENDAR
