BEGIN:VCALENDAR
METHOD:REQUEST
PRODID:-//events.orgNONSGML ical.net 4.0//EN
VERSION:2.0
BEGIN:VEVENT
DTEND;VALUE=DATE:20260428
DTSTAMP:20260423T171948Z
DTSTART;VALUE=DATE:20260428
LOCATION:Garcia's Chicago\, Chicago
ORGANIZER;CN=:mailto:events@events.org
SEQUENCE:0
SUMMARY:Julius Rodriguez
UID:cf18c110-9da8-459d-9a71-76daf83bafb6
URL:https://events.org/e/Julius-Rodriguez/QRWDQHBR
BEGIN:VALARM
ACTION:DISPLAY
SUMMARY:Reminder
TRIGGER:-P1D
END:VALARM
END:VEVENT
END:VCALENDAR
