BEGIN:VCALENDAR
METHOD:REQUEST
PRODID:-//events.orgNONSGML ical.net 4.0//EN
VERSION:2.0
BEGIN:VEVENT
DTEND;VALUE=DATE:20260901
DTSTAMP:20260421T104513Z
DTSTART;VALUE=DATE:20260901
LOCATION:Dos Equis Pavilion\, Dallas
ORGANIZER;CN=:mailto:events@events.org
SEQUENCE:0
SUMMARY:$uicideboy$ Present Grey Day Tour 2026 W. Destroy Lonely & More
UID:2762a02a-629c-49ae-ae66-325734123416
URL:https://events.org/e/uicideboy-Present-Grey-Day-Tour-2026-W-Destro/8A4
 KT9WW
BEGIN:VALARM
ACTION:DISPLAY
SUMMARY:Reminder
TRIGGER:-P1D
END:VALARM
END:VEVENT
END:VCALENDAR
