BEGIN:VCALENDAR
METHOD:REQUEST
PRODID:-//events.orgNONSGML ical.net 4.0//EN
VERSION:2.0
BEGIN:VEVENT
DTEND;VALUE=DATE:20260613
DTSTAMP:20260419T154251Z
DTSTART;VALUE=DATE:20260613
LOCATION:Punch Line Philly\, Philadelphia
ORGANIZER;CN=:mailto:events@events.org
SEQUENCE:0
SUMMARY:Big Wig Brunch: The Ultimate Drag Experience
UID:a428851d-1435-42d8-b281-6d385de83807
URL:https://events.org/e/Big-Wig-Brunch-The-Ultimate-Drag-Experience/T8QR7
 5CA
BEGIN:VALARM
ACTION:DISPLAY
SUMMARY:Reminder
TRIGGER:-P1D
END:VALARM
END:VEVENT
END:VCALENDAR
