BEGIN:VCALENDAR
METHOD:REQUEST
PRODID:-//events.orgNONSGML ical.net 4.0//EN
VERSION:2.0
BEGIN:VEVENT
DTEND;VALUE=DATE:20260531
DTSTAMP:20260421T094659Z
DTSTART;VALUE=DATE:20260531
LOCATION:Auraria Campus\, Denver
ORGANIZER;CN=:mailto:events@events.org
SEQUENCE:0
SUMMARY:Outside Days
UID:afd01ed9-7f3b-43f5-abb3-bd84497cab83
URL:https://events.org/e/Outside-Days/4UN5SWXP
BEGIN:VALARM
ACTION:DISPLAY
SUMMARY:Reminder
TRIGGER:-P1D
END:VALARM
END:VEVENT
END:VCALENDAR
