BEGIN:VCALENDAR
METHOD:REQUEST
PRODID:-//events.orgNONSGML ical.net 4.0//EN
VERSION:2.0
BEGIN:VEVENT
DTEND;VALUE=DATE:20260426
DTSTAMP:20260424T081131Z
DTSTART;VALUE=DATE:20260426
LOCATION:Night Club 101\, New York
ORGANIZER;CN=:mailto:events@events.org
SEQUENCE:0
SUMMARY:Sara Devoe\, Bug Crush\, Laura Elliott\, untitled freak
UID:514b37db-77e5-4050-9ba3-908c950166d0
URL:https://events.org/e/Sara-Devoe-Bug-Crush-Laura-Elliott-untitled-freak
 /NJPG22HQ
BEGIN:VALARM
ACTION:DISPLAY
SUMMARY:Reminder
TRIGGER:-P1D
END:VALARM
END:VEVENT
END:VCALENDAR
