BEGIN:VCALENDAR
METHOD:REQUEST
PRODID:-//events.orgNONSGML ical.net 4.0//EN
VERSION:2.0
BEGIN:VEVENT
DTEND;VALUE=DATE:20260711
DTSTAMP:20260419T144349Z
DTSTART;VALUE=DATE:20260711
LOCATION:Nationals Park\, Washington
ORGANIZER;CN=:mailto:events@events.org
SEQUENCE:0
SUMMARY:Washington Nationals vs. New York Yankees
UID:cff4f547-d7fe-4e68-a0d7-9e99cb21174f
URL:https://events.org/e/Washington-Nationals-vs-New-York-Yankees/5ET8T939
BEGIN:VALARM
ACTION:DISPLAY
SUMMARY:Reminder
TRIGGER:-P1D
END:VALARM
END:VEVENT
END:VCALENDAR
