BEGIN:VCALENDAR
METHOD:REQUEST
PRODID:-//events.orgNONSGML ical.net 4.0//EN
VERSION:2.0
BEGIN:VEVENT
DTEND;VALUE=DATE:20260827
DTSTAMP:20260424T092445Z
DTSTART;VALUE=DATE:20260827
LOCATION:Thunderbird Lounge\, Phoenix
ORGANIZER;CN=:mailto:events@events.org
SEQUENCE:0
SUMMARY:Loterã­A Thursdays
UID:2e7512fe-8b38-45aa-820b-f9022e1fa4b2
URL:https://events.org/e/LoteraA-Thursdays/A69246LN
BEGIN:VALARM
ACTION:DISPLAY
SUMMARY:Reminder
TRIGGER:-P1D
END:VALARM
END:VEVENT
END:VCALENDAR
