BEGIN:VCALENDAR
METHOD:REQUEST
PRODID:-//events.orgNONSGML ical.net 4.0//EN
VERSION:2.0
BEGIN:VEVENT
DTEND;VALUE=DATE:20260522
DTSTAMP:20260422T085019Z
DTSTART;VALUE=DATE:20260522
LOCATION:The Regent Theater\, Los Angeles
ORGANIZER;CN=:mailto:events@events.org
SEQUENCE:0
SUMMARY:Upsell: Premium Viewing
UID:26fbb587-ecfa-4eaf-9e4d-5d4cb574b7bc
URL:https://events.org/e/Upsell-Premium-Viewing/FH5D5GSA
BEGIN:VALARM
ACTION:DISPLAY
SUMMARY:Reminder
TRIGGER:-P1D
END:VALARM
END:VEVENT
END:VCALENDAR
