BEGIN:VCALENDAR
METHOD:REQUEST
PRODID:-//events.orgNONSGML ical.net 4.0//EN
VERSION:2.0
BEGIN:VEVENT
DTEND;VALUE=DATE:20260925
DTSTAMP:20260422T090842Z
DTSTART;VALUE=DATE:20260925
LOCATION:Walnut Street Theatre\, Philadelphia
ORGANIZER;CN=:mailto:events@events.org
SEQUENCE:0
SUMMARY:The Addams Family (Touring)
UID:cd474f9a-960f-4e9e-a31d-88eea8f0ab0c
URL:https://events.org/e/The-Addams-Family-Touring/P7HLUY2I
BEGIN:VALARM
ACTION:DISPLAY
SUMMARY:Reminder
TRIGGER:-P1D
END:VALARM
END:VEVENT
END:VCALENDAR
