BEGIN:VCALENDAR
METHOD:REQUEST
PRODID:-//events.orgNONSGML ical.net 4.0//EN
VERSION:2.0
BEGIN:VEVENT
DTEND;VALUE=DATE:20260604
DTSTAMP:20260423T133205Z
DTSTART;VALUE=DATE:20260604
LOCATION:Truist Park\, Atlanta
ORGANIZER;CN=:mailto:events@events.org
SEQUENCE:0
SUMMARY:Atlanta Braves vs. Toronto Blue Jays
UID:6dc4bee6-4edf-4001-8c41-20e2604daf72
URL:https://events.org/e/Atlanta-Braves-vs-Toronto-Blue-Jays/8JXMTJCH
BEGIN:VALARM
ACTION:DISPLAY
SUMMARY:Reminder
TRIGGER:-P1D
END:VALARM
END:VEVENT
END:VCALENDAR
