BEGIN:VCALENDAR
METHOD:REQUEST
PRODID:-//events.orgNONSGML ical.net 4.0//EN
VERSION:2.0
BEGIN:VEVENT
DTEND;VALUE=DATE:20260425
DTSTAMP:20260422T091347Z
DTSTART;VALUE=DATE:20260425
LOCATION:Mercury Lounge\, New York
ORGANIZER;CN=:mailto:events@events.org
SEQUENCE:0
SUMMARY:Mercer Henderson
UID:8064153c-f984-4184-918d-8a95e787fca5
URL:https://events.org/e/Mercer-Henderson/FTD9HA78
BEGIN:VALARM
ACTION:DISPLAY
SUMMARY:Reminder
TRIGGER:-P1D
END:VALARM
END:VEVENT
END:VCALENDAR
