BEGIN:VCALENDAR
METHOD:REQUEST
PRODID:-//events.orgNONSGML ical.net 4.0//EN
VERSION:2.0
BEGIN:VEVENT
DTEND;VALUE=DATE:20260422
DTSTAMP:20260421T082311Z
DTSTART;VALUE=DATE:20260422
LOCATION:Broadhurst Theatre \, New York
ORGANIZER;CN=:mailto:events@events.org
SEQUENCE:0
SUMMARY:CATS: The Jellicle Ball
UID:1fccf4da-5df2-4d88-aa0d-0cbbba006871
URL:https://events.org/e/CATS-The-Jellicle-Ball/LOCLLT5Q
BEGIN:VALARM
ACTION:DISPLAY
SUMMARY:Reminder
TRIGGER:-P1D
END:VALARM
END:VEVENT
END:VCALENDAR
