BEGIN:VCALENDAR
METHOD:REQUEST
PRODID:-//events.orgNONSGML ical.net 4.0//EN
VERSION:2.0
BEGIN:VEVENT
DTEND;VALUE=DATE:20260704
DTSTAMP:20260422T092141Z
DTSTART;VALUE=DATE:20260704
LOCATION:Truist Park\, Atlanta
ORGANIZER;CN=:mailto:events@events.org
SEQUENCE:0
SUMMARY:Atlanta Braves vs. New York Mets
UID:859aca92-eacb-4fb8-91e4-6ee0d5fb2aa6
URL:https://events.org/e/Atlanta-Braves-vs-New-York-Mets/3EMFNBTA
BEGIN:VALARM
ACTION:DISPLAY
SUMMARY:Reminder
TRIGGER:-P1D
END:VALARM
END:VEVENT
END:VCALENDAR
