BEGIN:VCALENDAR
METHOD:REQUEST
PRODID:-//events.orgNONSGML ical.net 4.0//EN
VERSION:2.0
BEGIN:VEVENT
DTEND;VALUE=DATE:20260506
DTSTAMP:20260421T095548Z
DTSTART;VALUE=DATE:20260506
LOCATION:Lakewood Amphitheatre\, Atlanta
ORGANIZER;CN=:mailto:events@events.org
SEQUENCE:0
SUMMARY:KID CUDI PRESENTS: THE REBEL RAGERS TOUR 2026
UID:87b3b9f0-b0a4-4c63-8657-9b6e5c6c3b71
URL:https://events.org/e/KID-CUDI-PRESENTS-THE-REBEL-RAGERS-TOUR-2026/O73E
 HF8W
BEGIN:VALARM
ACTION:DISPLAY
SUMMARY:Reminder
TRIGGER:-P1D
END:VALARM
END:VEVENT
END:VCALENDAR
