BEGIN:VCALENDAR
METHOD:REQUEST
PRODID:-//events.orgNONSGML ical.net 4.0//EN
VERSION:2.0
BEGIN:VEVENT
DTEND;VALUE=DATE:20260618
DTSTAMP:20260425T103231Z
DTSTART;VALUE=DATE:20260618
LOCATION:Summit Music Hall\, Denver
ORGANIZER;CN=:mailto:events@events.org
SEQUENCE:0
SUMMARY:French Montana And Max B - Wave Gods Narcos Tour
UID:5d5c3f68-4c25-4549-902d-9db538c4029c
URL:https://events.org/e/French-Montana-And-Max-B---Wave-Gods-Narcos-Tour/
 IGNR5JNI
BEGIN:VALARM
ACTION:DISPLAY
SUMMARY:Reminder
TRIGGER:-P1D
END:VALARM
END:VEVENT
END:VCALENDAR
