BEGIN:VCALENDAR
METHOD:REQUEST
PRODID:-//events.orgNONSGML ical.net 4.0//EN
VERSION:2.0
BEGIN:VEVENT
DTEND;VALUE=DATE:20261011
DTSTAMP:20260424T092445Z
DTSTART;VALUE=DATE:20261011
LOCATION:Citizens Opera House\, Boston
ORGANIZER;CN=:mailto:events@events.org
SEQUENCE:0
SUMMARY:Wicked (Touring)
UID:e1dd9b13-7af1-4e2a-a834-0c864ad6922f
URL:https://events.org/e/Wicked-Touring/D5GI3RNJ
BEGIN:VALARM
ACTION:DISPLAY
SUMMARY:Reminder
TRIGGER:-P1D
END:VALARM
END:VEVENT
END:VCALENDAR
