BEGIN:VCALENDAR
METHOD:REQUEST
PRODID:-//events.orgNONSGML ical.net 4.0//EN
VERSION:2.0
BEGIN:VEVENT
DTEND;VALUE=DATE:20260716
DTSTAMP:20260424T092623Z
DTSTART;VALUE=DATE:20260716
LOCATION:Truist Park\, Atlanta
ORGANIZER;CN=:mailto:events@events.org
SEQUENCE:0
SUMMARY:Tours: Truist Park
UID:5f85c2e4-54b9-4dd0-9b69-a360befcac45
URL:https://events.org/e/Tours-Truist-Park/VW3SHVMP
BEGIN:VALARM
ACTION:DISPLAY
SUMMARY:Reminder
TRIGGER:-P1D
END:VALARM
END:VEVENT
END:VCALENDAR
