BEGIN:VCALENDAR
METHOD:REQUEST
PRODID:-//events.orgNONSGML ical.net 4.0//EN
VERSION:2.0
BEGIN:VEVENT
DTEND;VALUE=DATE:20260529
DTSTAMP:20260419T142616Z
DTSTART;VALUE=DATE:20260529
LOCATION:The Crocodile\, Seattle
ORGANIZER;CN=:mailto:events@events.org
SEQUENCE:0
SUMMARY:MAGIC SWORD / DANCE WITH THE DEAD: The Face Off Tour 2026 w/ Megan
  McDuffee
UID:9090a138-cd87-4b97-af19-974ec551bf8f
URL:https://events.org/e/MAGIC-SWORD-DANCE-WITH-THE-DEAD-The-Face-Off/NFN2
 IWN4
BEGIN:VALARM
ACTION:DISPLAY
SUMMARY:Reminder
TRIGGER:-P1D
END:VALARM
END:VEVENT
END:VCALENDAR
