BEGIN:VCALENDAR
METHOD:REQUEST
PRODID:-//events.orgNONSGML ical.net 4.0//EN
VERSION:2.0
BEGIN:VEVENT
DTEND;VALUE=DATE:20260616
DTSTAMP:20260425T102343Z
DTSTART;VALUE=DATE:20260616
LOCATION:White Oak Music Hall - Upstairs \, Houston
ORGANIZER;CN=:mailto:events@events.org
SEQUENCE:0
SUMMARY:bunii: The Lonely Tour
UID:1e8ffa09-3477-4858-bd79-05728f62a7b9
URL:https://events.org/e/bunii-The-Lonely-Tour/58GUP6DT
BEGIN:VALARM
ACTION:DISPLAY
SUMMARY:Reminder
TRIGGER:-P1D
END:VALARM
END:VEVENT
END:VCALENDAR
