BEGIN:VCALENDAR
METHOD:REQUEST
PRODID:-//events.orgNONSGML ical.net 4.0//EN
VERSION:2.0
BEGIN:VEVENT
DTEND;VALUE=DATE:20260917
DTSTAMP:20260423T093749Z
DTSTART;VALUE=DATE:20260917
LOCATION:MIDFLORIDA Credit Union Amphitheatre at the FL State Fairgrounds\
 , Tampa
ORGANIZER;CN=:mailto:events@events.org
SEQUENCE:0
SUMMARY:Empire of the Sun - Ask That God: Afterlife North American Tour
UID:84e5a602-a081-4c4e-812e-a765ca0310d2
URL:https://events.org/e/Empire-of-the-Sun---Ask-That-God-Afterlife-No/9M8
 RTQET
BEGIN:VALARM
ACTION:DISPLAY
SUMMARY:Reminder
TRIGGER:-P1D
END:VALARM
END:VEVENT
END:VCALENDAR
